Workbook

Sheet Sheet1
C2: Relative Valuation
C4: Assumptions
C5: 1 | D5: Valuation Purpose | G5: Merger and Acquisation
C6: 2 | D6: Valuation Date | G6: 45918
C7: 3 | D7: Currency | G7: Rupees
C8: 4 | D8: Share Count Definition | G8: Basic
C11: Peers | F11: Share Price | G11: Share Outstanding | H11: Market Cap | I11: Total Debt | J11: Cash and Cash Equivalent | K11: Minority Inerest | L11: Prefrred Stock | M11: Recent Intrim Dividend YTD
C12: Godrej Consumer | F12: 1235.6 | G12: 102.28 | H12: =G12*F12 -> 126377.17 | I12: 4009.19 | J12: 483.06 | K12: 0 | L12: 4.7 | M12: 10
C13: Dabur India | F13: 537 | G13: 177.2 | H13: =G13*F13 -> 95156.4 | I13: 950.37 | J13: 578.01 | K13: 409.6 | L13: 0 | M13: 5.25
C14: Colgate-Plamoliv | F14: 2350.8 | G14: 27.2 | H14: =G14*F14 -> 63941.76 | I14: 60.84 | J14: 1095.13 | K14: 0 | L14: 0 | M14: 27
C15: P&G Hygein | F15: 13331.6 | G15: 3.25 | H15: =G15*F15 -> 43327.7 | I15: 2.32 | J15: 480.7 | K15: 0 | L15: 0 | M15: 65
C16: Gillette India | F16: 10004.1 | G16: 3.26 | H16: =G16*F16 -> 32613.366 | I16: 0.05 | J16: 419.14 | K16: 0 | L16: 0 | M16: 47
C17: Emami | F17: 587.2 | G17: 43.65 | H17: =G17*F17 -> 25631.28 | I17: 89.97 | J17: 272.9 | K17: -1.4 | L17: 0 | M17: 2
C18: Honasa Consumer | F18: 360 | G18: 32.42 | H18: =G18*F18 -> 11671.2 | I18: 109.79 | J18: 294.99 | K18: 0 | L18: 0 | M18: 0
C20: LTM
C21: Company Name | F21: Revenue | G21: EBITDA | H21: EBIT | I21: Net profit
C22: Godrej Consumer | F22: ='LTM Calc'!K12 -> 14426.39 | G22: ='LTM Calc'!K24 -> 2985.14 | H22: ='LTM Calc'!K36 -> 3025.16 | I22: ='LTM Calc'!K47 -> 1854.06
C23: Dabur India | F23: ='LTM Calc'!K13 -> 12459.48 | G23: ='LTM Calc'!K25 -> 2328.93 | H23: ='LTM Calc'!K37 -> 2434.21 | I23: ='LTM Calc'!K48 -> 1754.36
C24: Colgate-Plamoliv | F24: ='LTM Calc'!K14 -> 5617.78 | G24: ='LTM Calc'!K26 -> 1902.29 | H24: ='LTM Calc'!K38 -> 1876.54 | I24: ='LTM Calc'!K49 -> 1393.45
C25: P&G Hygein | F25: ='LTM Calc'!K15 -> 3923.18 | G25: ='LTM Calc'!K27 -> 1019.12 | H25: ='LTM Calc'!K39 -> 1029.21 | I25: ='LTM Calc'!K50 -> 747.59
C26: Gillette India | F26: ='LTM Calc'!K16 -> 2538.44 | G26: ='LTM Calc'!K28 -> 635.05 | H26: ='LTM Calc'!K40 -> 601.59 | I26: ='LTM Calc'!K51 -> 447.38
C27: Emami | F27: ='LTM Calc'!K17 -> 3576.11 | G27: ='LTM Calc'!K29 -> 1029.2 | H27: ='LTM Calc'!K41 -> 873.59 | I27: ='LTM Calc'!K52 -> 816.41
C28: Honasa Consumer | F28: ='LTM Calc'!K18 -> 2293.46 | G28: ='LTM Calc'!K30 -> 52.82 | H28: ='LTM Calc'!K42 -> 97.52 | I28: ='LTM Calc'!K53 -> 64.71
C30: Calculation of EV
C31: Company Name | F31: Market Cap | G31: Total Debt | H31: Minority Inerest | I31: Cash and Cash Equivalent | J31: EV
C32: Godrej Consumer | F32: =H12 -> 126377.17 | G32: 4009.19 | H32: 0 | I32: 483.06 | J32: =F32+G32+H32-I32 -> 129903.3
C33: Dabur India | F33: =H13 -> 95156.4 | G33: 950.37 | H33: 409.6 | I33: 578.01 | J33: =F33+G33+H33-I33 -> 95938.36
C34: Colgate-Plamoliv | F34: =H14 -> 63941.76 | G34: 60.84 | H34: 0 | I34: 1095.13 | J34: =F34+G34+H34-I34 -> 62907.47
C35: P&G Hygein | F35: =H15 -> 43327.7 | G35: 2.32 | H35: 0 | I35: 480.7 | J35: =F35+G35+H35-I35 -> 42849.32
C36: Gillette India | F36: =H16 -> 32613.366 | G36: 0.05 | H36: 0 | I36: 419.14 | J36: =F36+G36+H36-I36 -> 32194.276
C37: Emami | F37: =H17 -> 25631.28 | G37: 89.97 | H37: -1.4 | I37: 272.9 | J37: =F37+G37+H37-I37 -> 25446.95
C38: Honasa Consumer | F38: =H18 -> 11671.2 | G38: 109.79 | H38: 0 | I38: 294.99 | J38: =F38+G38+H38-I38 -> 11486
C41: Multiple
C42: Company Name | F42: =J31 -> EV | G42: =G21 -> EBITDA | H42: EV/EBITDA | J42: Net Profit | K42: =F31 -> Market Cap | L42: P/E
C43: Godrej Consumer | F43: =J32 -> 129903.3 | G43: =G22 -> 2985.14 | H43: =F43/G43 -> 43.516652 | I43: =MIN(H43:H49) -> 24.724981 | J43: =I22 -> 1854.06 | K43: =F32 -> 126377.17 | L43: =K43/J43 -> 68.162394 | M43: =MIN(L43:L49) -> 31.395108
C44: Dabur India | F44: =J33 -> 95938.36 | G44: =G23 -> 2328.93 | H44: =F44/G44 -> 41.194179 | I44: =_xlfn.PERCENTILE.INC(H43:H49,25%) -> 37.131758 | J44: =I23 -> 1754.36 | K44: =F33 -> 95156.4 | L44: =K44/J44 -> 54.239951 | M44: =_xlfn.PERCENTILE.INC(L43:L49,25%) -> 50.063662
C45: Colgate-Plamoliv | F45: =J34 -> 62907.47 | G45: =G24 -> 1902.29 | H45: =F45/G45 -> 33.069337 | I45: =MEDIAN(H43:H49) -> 42.045412 | J45: =I24 -> 1393.45 | K45: =F34 -> 63941.76 | L45: =K45/J45 -> 45.887373 | M45: =MEDIAN(L43:L49) -> 57.9565
C46: P&G Hygein | F46: =J35 -> 42849.32 | G46: =G25 -> 1019.12 | H46: =F46/G46 -> 42.045412 | I46: =_xlfn.PERCENTILE.INC(H43:H49,75%) -> 47.106154 | J46: =I25 -> 747.59 | K46: =F35 -> 43327.7 | L46: =K46/J46 -> 57.9565 | M46: =_xlfn.PERCENTILE.INC(L43:L49,75%) -> 70.530486
C47: Gillette India | F47: =J36 -> 32194.276 | G47: =G26 -> 635.05 | H47: =F47/G47 -> 50.695655 | I47: =MAX(H43:H49) -> 217.45551 | J47: =I26 -> 447.38 | K47: =F36 -> 32613.366 | L47: =K47/J47 -> 72.898578 | M47: =MAX(L43:L49) -> 180.36161
C48: Emami | F48: =J37 -> 25446.95 | G48: =G27 -> 1029.2 | H48: =F48/G48 -> 24.724981 | J48: =I27 -> 816.41 | K48: =F37 -> 25631.28 | L48: =K48/J48 -> 31.395108
...

Sheet LTM Calc
D1: Last twelve Month Data
C4: Revenue
C5: EBITDA
C6: EBIT
C7: Net Income
H10: LTM Sales
G11: Last Year data | H11: Current YTD | I11: last Year To same date | K11: Last Twelve Month
C12: Godrej Consumer | G12: 14096.11 | H12: 3661.86 | I12: 3331.58 | K12: =G12+H12-I12 -> 14426.39
C13: Dabur India | G13: 12404.01 | H13: 3404.58 | I13: 3349.11 | K13: =G13+H13-I13 -> 12459.48
C14: Colgate-Plamoliv | G14: 5680.43 | H14: 1434.06 | I14: 1496.71 | K14: =G14+H14-I14 -> 5617.78
C15: P&G Hygein | G15: 3917.9 | H15: 937.03 | I15: 931.75 | K15: =G15+H15-I15 -> 3923.18
C16: Gillette India | G16: 2477.05 | H16: 706.72 | I16: 645.33 | K16: =G16+H16-I16 -> 2538.44
C17: Emami | G17: 3578.09 | H17: 904.09 | I17: 906.07 | K17: =G17+H17-I17 -> 3576.11
C18: Honasa Consumer | G18: 1764.39 | H18: 583.63 | I18: 54.56 | K18: =G18+H18-I18 -> 2293.46
H22: LTM EBITDA
G23: Last Year data | H23: Current YTD | I23: last Year To same date | K23: Last Twelve Month
C24: Godrej Consumer | G24: 3015.01 | H24: 694.56 | I24: 724.43 | K24: =G24+H24-I24 -> 2985.14
C25: Dabur India | G25: 2316.34 | H25: 667.42 | I25: 654.83 | K25: =G25+H25-I25 -> 2328.93
C26: Colgate-Plamoliv | G26: 1958.06 | H26: 452.57 | I26: 508.34 | K26: =G26+H26-I26 -> 1902.29
C27: P&G Hygein | G27: 871.29 | H27: 266.17 | I27: 118.34 | K27: =G27+H27-I27 -> 1019.12
C28: Gillette India | G28: 600.32 | H28: 210.25 | I28: 175.52 | K28: =G28+H28-I28 -> 635.05
C29: Emami | G29: 1031.5 | H29: 212.11 | I29: 214.41 | K29: =G29+H29-I29 -> 1029.2
C30: Honasa Consumer | G30: 53.82 | H30: 41.45 | I30: 42.45 | K30: =G30+H30-I30 -> 52.82
H34: LTM EBIT
G35: Last Year data | H35: Current YTD | I35: last Year To same date | K35: Last Twelve Month
C36: Godrej Consumer | G36: 3057.51 | H36: 719.73 | I36: 752.08 | K36: =G36+H36-I36 -> 3025.16
C37: Dabur India | G37: 2412.07 | H37: 697.25 | I37: 675.11 | K37: =G37+H37-I37 -> 2434.21
C38: Colgate-Plamoliv | G38: 1933.8 | H38: 432.97 | I38: 490.23 | K38: =G38+H38-I38 -> 1876.54
C39: P&G Hygein | G39: 876.69 | H39: 264.77 | I39: 112.25 | K39: =G39+H39-I39 -> 1029.21
C40: Gillette India | G40: 564.02 | H40: 196.47 | I40: 158.9 | K40: =G40+H40-I40 -> 601.59
C41: Emami | G41: 864.83 | H41: 189.2 | I41: 180.44 | K41: =G41+H41-I41 -> 873.59
C42: Honasa Consumer | G42: 94.67 | H42: 56.51 | I42: 53.66 | K42: =G42+H42-I42 -> 97.52
H45: LTM NET PROFIT
G46: Last Year data | H46: Current YTD | I46: last Year To same date | K46: Last Twelve Month
C47: Godrej Consumer | G47: 1852.3 | H47: 452.45 | I47: 450.69 | K47: =G47+H47-I47 -> 1854.06
C48: Dabur India | G48: 1740.42 | H48: 508.29 | I48: 494.35 | K48: =G48+H48-I48 -> 1754.36
C49: Colgate-Plamoliv | G49: 1436.81 | H49: 320.62 | I49: 363.98 | K49: =G49+H49-I49 -> 1393.45
C50: P&G Hygein | G50: 636.59 | H50: 192.06 | I50: 81.06 | K50: =G50+H50-I50 -> 747.59
C51: Gillette India | G51: 417.66 | H51: 145.69 | I51: 115.97 | K51: =G51+H51-I51 -> 447.38
C52: Emami | G52: 802.75 | H52: 164.26 | I52: 150.6 | K52: =G52+H52-I52 -> 816.41
...

Sheet Sheet3

Sheet Sheet4
