Workbook

Sheet Profile
C4: Dabur India - one Page Profile
G5: Dabur India Ltd., founded in 1884, is one of India’s oldest and largest FMCG companies with a strong heritage in Ayurveda and natural healthcare. It manufactures and markets health supplements, personal care, foods, home care and OTC products under well-known brands like Dabur Chyawanprash, Vatika, Real and Hajmola. Operating multiple manufacturing units in India and abroad and reaching over 120 countries, Dabur combines traditional knowledge with modern R&D to sustain leadership in herbal and natural products. Its diversified portfolio and international presence make it a leading player in the Indian FMCG sector and a growing name globally.
C13: Inr (Cr.)
C14: Key financial Metrics | H14: 2021 | I14: 2022 | J14: 2023 | K14: 2024 | L14: 2025 | O14: Share Price - 5 Year
C16: Total Sales | H16: ='P & L'!O12 -> 9561.65 | I16: ='P & L'!P12 -> 10888.68 | J16: ='P & L'!Q12 -> 11529.89 | K16: ='P & L'!R12 -> 12404.01 | L16: ='P & L'!S12 -> 12563.09
C17: Sales Growth ( y-o-y %) | I17: =I16/H16-1 -> 0.13878672 | J17: =J16/I16-1 -> 0.058887762 | K17: =K16/J16-1 -> 0.075813386 | L17: =L16/K16-1 -> 0.012824885
C18: Gross Profit Margin (%) | H18: ='Fore - P& L'!O17 -> 0.5022972 | I18: ='Fore - P& L'!P17 -> 0.48205935 | J18: ='Fore - P& L'!Q17 -> 0.45631138 | K18: ='Fore - P& L'!R17 -> 0.48025195 | L18: ='Fore - P& L'!S17 -> 0.48198572
C19: EBITDA Margin (%) | H19: ='Fore - P& L'!O21 -> 0.2125972 | I19: ='Fore - P& L'!P21 -> 0.20698652 | J19: ='Fore - P& L'!Q21 -> 0.1876965 | K19: ='Fore - P& L'!R21 -> 0.19350436 | L19: ='Fore - P& L'!S21 -> 0.18652577
C20: EBIT Margin (%) | H20: ='Fore - P& L'!O25 -> 0.18748333 | I20: ='Fore - P& L'!P25 -> 0.18376148 | J20: ='Fore - P& L'!Q25 -> 0.1607266 | K20: ='Fore - P& L'!R25 -> 0.16132041 | L20: ='Fore - P& L'!S25 -> 0.15105679
C21: Net profit Margin (%) | H21: ='Fore - P& L'!O38 -> 0.18041342 | I21: ='Fore - P& L'!P38 -> 0.16001021 | J21: ='Fore - P& L'!Q38 -> 0.14755822 | K21: ='Fore - P& L'!R38 -> 0.14602616 | L21: ='Fore - P& L'!S38 -> 0.14068354
C22: Earning Per share (in Rs.) | H22: ='Fore - P& L'!O56 -> 9.58 | I22: ='Fore - P& L'!P56 -> 9.84 | J22: ='Fore - P& L'!Q56 -> 9.64 | K22: ='Fore - P& L'!R56 -> 10.4 | L22: ='Fore - P& L'!S56 -> 9.97
C23: EPS Growth (%) | I23: =I22/H22-1 -> 0.027139875 | J23: =J22/I22-1 -> -0.020325203 | K23: =K22/J22-1 -> 0.078838174 | L23: =L22/K22-1 -> -0.041346154
C24: Dividend Per Share | H24: ='P & L'!O57 -> 4.79 | I24: ='P & L'!P57 -> 5.2152 | J24: ='P & L'!Q57 -> 5.2056 | K24: ='P & L'!R57 -> 5.512 | L24: ='P & L'!S57 -> 7.976
C25: Dividend Growth rate (Y-o-Y %) | I25: =I24/H24-1 -> 0.088768267 | J25: =J24/I24-1 -> -0.0018407731 | K25: =K24/J24-1 -> 0.05885969 | L25: =L24/K24-1 -> 0.44702467
C28: Key financial Ratios | H28: 2021 | I28: 2022 | J28: 2023 | K28: 2024 | L28: 2025 | O28: Share Price - 1 year
C30: Price to Earning | H30: ='Work Sheet'!C3/'P & L'!O54 -> 56.367432 | I30: ='Work Sheet'!C4/'P & L'!P54 -> 54.471545 | J30: ='Work Sheet'!C5/'P & L'!Q54 -> 56.431535 | K30: ='Work Sheet'!C6/'P & L'!R54 -> 50.288462 | L30: ='Work Sheet'!C7/'P & L'!S54 -> 50.752257
C31: EV/EBITDA | H31: ='Work Sheet'!G16/'Fore - P& L'!O20 -> 47.087402 | I31: ='Work Sheet'!H16/'Fore - P& L'!P20 -> 42.203455 | J31: ='Work Sheet'!I16/'Fore - P& L'!Q20 -> 44.671982 | K31: ='Work Sheet'!J16/'Fore - P& L'!R20 -> 38.727259 | L31: ='Work Sheet'!K16/'Fore - P& L'!S20 -> 38.381938
C32: EV/Sales | H32: ='Work Sheet'!G16/'P & L'!O12 -> 10.01065 | I32: ='Work Sheet'!H16/'P & L'!P12 -> 8.7355465 | J32: ='Work Sheet'!I16/'P & L'!Q12 -> 8.3847747 | K32: ='Work Sheet'!J16/'P & L'!R12 -> 7.4938935 | L32: ='Work Sheet'!K16/'P & L'!S12 -> 7.1592204
C33: Price to Bookvalue | H33: ='Work Sheet'!G6 -> 12.394399 | I33: ='Work Sheet'!H6 -> 11.261165 | J33: ='Work Sheet'!I6 -> 10.209979 | K33: ='Work Sheet'!J6 -> 8.9949413 | L33: ='Work Sheet'!K6 -> 7.9983158
C34: Return to Equity (%) | H34: ='P & L'!O36/'Balance sheet'!$M$48 -> 0.22011709 | I34: ='P & L'!P36/'Balance sheet'!$M$48 -> 0.22626626 | J34: ='P & L'!Q36/'Balance sheet'!$M$48 -> 0.22094564 | K34: ='P & L'!R36/'Balance sheet'!$M$48 -> 0.23522834 | L34: ='P & L'!S36/'Balance sheet'!$M$48 -> 0.22602211
C35: Return on Capital Employed (%) | H35: ='Fore - P& L'!O24/('Balance sheet'!$M$48+'Balance sheet'!$M$57) -> 0.22654664 | I35: ='Fore - P& L'!P24/('Balance sheet'!$M$48+'Balance sheet'!$M$57) -> 0.25286682 | J35: ='Fore - P& L'!Q24/('Balance sheet'!$M$48+'Balance sheet'!$M$57) -> 0.23419361 | K35: ='Fore - P& L'!R24/('Balance sheet'!$M$48+'Balance sheet'!$M$57) -> 0.25287946 | L35: ='Fore - P& L'!S24/('Balance sheet'!$M$48+'Balance sheet'!$M$57) -> 0.23982742
C38: Top 10 Shareholders | H38: Shares ( In Cr.) | J38: Holding (%) | L38: Market Value
C40: Vic Enterprises Private Limited | H40: 21.7794 | J40: 0.1228 | L40: =H40*515 -> 11216.391
C41: Saket Burman | H41: 20.93838 | J41: 0.1179 | L41: =H41*515 -> 10783.266
C42: Gyan Enterprises Pvt. Ltd. | H42: 19.337998 | J42: 0.109 | L42: =H42*515 -> 9959.069
C43: Puran Associates Pvt. Ltd. | H43: 18.9212 | J43: 0.1067 | L43: =H43*515 -> 9744.418
C44: Ratna Commercial Enterprises Pvt. Ltd. | H44: 15.89556 | J44: 0.0897 | L44: =H44*515 -> 8186.2136
C45: Milky Investment And Trading Co. | H45: 10.61475 | J45: 0.0598 | L45: =H45*515 -> 5466.5964
C46: Life Insurance Corporation of India (LIC) | H46: 8.903565 | J46: 0.0502 | L46: =H46*515 -> 4585.336
C47: Burmans Finvest Private Limited | H47: 5.3012986 | J47: 0.0299 | L47: =H47*515 -> 2730.1688
C48: UTI Retirement Solutions Ltd. | H48: 3.29724 | J48: 0.0186 | L48: =H48*515 -> 1698.0786
C49: ICICI Prudential AMC Ltd. | H49: 3.1722028 | J49: 0.0179 | L49: =H49*515 -> 1633.6844
C52: Managerial Renumeration | F52: Designation | I52: Renumeration (in Cr.) | K52: X of Median Salary | O52: Capital Structure
C54: Mohit Malhotra | F54: CEO & Whole-time Director | I54: 14.43 | K54: 257X | O54: Share Price as on Sep-2025 | S54: 515.6
C55: Amit Burman | F55: Chairman (Non-Executive) | I55: 1.9 | K55: 34X | O55: No.of Share Outstanding | S55: 177.26
C56: P. D. Narang | F56: Whole-time Director | I56: 8.08 | K56: 144X | O56: Market Capitalisation | S56: =S54*S55 -> 91395.256
C57: Mohit Anand | F57: Whole-time Director | I57: 5.92 | K57: 106X | P57: Less: | Q57: Cash & Equivalent | S57: ='Balance sheet'!$Q$33 -> 184.27
C58: Manish Chugh | F58: Chief Financial Officer (KMP) | I58: 3.17 | K58: 57X | P58: Add: | Q58: Total Debt | S58: ='Balance sheet'!$Q$52+'Balance sheet'!$Q$53+'Balance sheet'!$Q$60+'Balance sheet'!$Q$61 -> 950.37
C59: Vivek Chandra | F59: CEO – International Business (KMP) | I59: 3.35 | K59: 60X | P59: Add: | Q59: Minority Interest | S59: ='Balance sheet'!$Q$47 -> 409.57
C60: Sandeep Sharma | F60: CEO – India Business (KMP) | I60: 2.99 | K60: 53X | O60: Enterprise Value | S60: =S56+S58+S59-S57 -> 92570.926
...

Sheet P & L
B5: Dabur India ltd
B6: DABURINDIA| BSE Code : 524715)
B7: Sector: Fast Moving Consumer Goods
B8: Historical Financial Statement - Dabur India ltd
B9: Income Statement
B10: Particulars | M10: Notes | O10: FY-2021 | P10: FY-2022 | Q10: FY-2023 | R10: FY-2024 | S10: FY-2025
B11: Income
B12: Revenue from operations | O12: 9561.65 | P12: 10888.68 | Q12: 11529.89 | R12: 12404.01 | S12: =12563.09 -> 12563.09
B13: Other Income | O13: 325.29 | P13: 393.16 | Q13: 445.39 | R13: 482.41 | S13: 550.1
B14: Total Income | O14: =SUM(O12:O13) -> 9886.94 | P14: =SUM(P12:P13) -> 11281.84 | Q14: =SUM(Q12:Q13) -> 11975.28 | R14: =SUM(R12:R13) -> 12886.42 | S14: =SUM(S12:S13) -> 13113.19
B15: Expenses
B16: Cost of material consumed | O16: 3998.58 | P16: 4766.12 | Q16: 5306.97 | R16: 5186.9 | S16: 5236.68
B17: Excise duty | O17: 15.05
B18: Purchase of stock in trade | O18: 982.53 | P18: 882.12 | Q18: 1052.49 | R18: 1211.11 | S18: 1328.28
B19: change in inventories in finished goods, stock in trade and work in progress | O19: -207.2 | P19: -8.55 | Q19: -90.79 | R19: 48.95 | S19: -57.1
B20: Employee benefit expenses | O20: 1033.46 | P20: 1079.95 | Q20: 1137 | R20: 1239.56 | S20: 1291.23
B21: Finance cost | O21: 30.81 | P21: 38.6 | Q21: 78.24 | R21: 124.18 | S21: 163.5
B22: Depreiation an amortisation expenses | O22: 240.13 | P22: 252.89 | Q22: 310.96 | R22: 399.21 | S22: 445.6
B23: other expenses
C24: advertisement and publicity | O24: 784.36 | P24: 777.94 | Q24: 640.27 | R24: 849.06 | S24: 864.64
C25: Others | O25: 952.19 | P25: 1137.29 | Q25: 1319.83 | R25: 1468.2 | S25: 1556.02
B26: Total expenses | O26: =SUM(O16:O25) -> 7829.91 | P26: =SUM(P16:P25) -> 8926.36 | Q26: =SUM(Q16:Q25) -> 9754.97 | R26: 10527.17 | S26: 10855.85
B27: profit before share of loss from joint venture , exceptional items and tax | O27: =O14-O26 -> 2057.03 | P27: =P14-P26 -> 2355.48 | Q27: =Q14-Q26 -> 2220.31 | R27: 2359.25 | S27: 2257.34
B28: Share of loss of joint venture | O28: -1.01 | P28: -1.8 | Q28: -1.63 | R28: -0.51 | S28: 0.55
B29: profit before exceptional item and tax | O29: =SUM(O27:O28) -> 2056.02 | P29: =SUM(P27:P28) -> 2353.68 | Q29: =SUM(Q27:Q28) -> 2218.68 | R29: =SUM(R27:R28) -> 2358.74 | S29: =SUM(S27:S28) -> 2257.89
B30: exceptional items | P30: -85
B31: Profit before tax | O31: =SUM(O29:O30) -> 2056.02 | P31: =SUM(P29:P30) -> 2268.68 | Q31: =SUM(Q29:Q30) -> 2218.68 | R31: =SUM(R29:R30) -> 2358.74 | S31: =SUM(S29:S30) -> 2257.89
B32: Tax expenses
B33: Current tax | O33: 363.04 | P33: 442.17 | Q33: 481.63 | R33: 539.53 | S33: 499.06
B34: Defrred tax | O34: -1.97 | P34: 84.21 | Q34: 35.72 | R34: 7.9 | S34: 18.41
B35: Total tax Expense | O35: =SUM(O33:O34) -> 361.07 | P35: =SUM(P33:P34) -> 526.38 | Q35: =SUM(Q33:Q34) -> 517.35 | R35: 547.43 | S35: 517.47
B36: Net profit for the year | O36: =O31-O35 -> 1694.95 | P36: =P31-P35 -> 1742.3 | Q36: =Q31-Q35 -> 1701.33 | R36: 1811.31 | S36: 1740.42
B37: Other comprensive Income
B38: A | C38: (i) | D38: items that wil not be reclassified to profit and loss | O38: 6.6 | P38: 15.27 | Q38: -2.21 | R38: -2.93 | S38: 4.75
C39: (ii) | D39: Income tax relating to items that will not be reclassified to profit or loss | O39: -2.4 | P39: -7.55 | Q39: 0.77 | R39: 1.05 | S39: -1.65
B40: B | C40: (i) | D40: items that wil be reclassified to profit and loss | O40: -98.66 | P40: -106.97 | Q40: -247.93 | R40: -78.91 | S40: 105.09
C41: (ii) | D41: Income tax relating to items that will be reclassified to profit or loss | O41: 6.25 | P41: 10.83 | Q41: 23.98 | R41: -11.09 | S41: -19.1
B42: Total Other comprehensive income | O42: =SUM(O38:O41) -> -88.21 | P42: =SUM(P38:P41) -> -88.42 | Q42: =SUM(Q38:Q41) -> -225.39 | R42: -91.88 | S42: 89.09
B43: Total comprehensive income for the year | O43: =SUM(O36,O42) -> 1606.74 | P43: =SUM(P36,P42) -> 1653.88 | Q43: =SUM(Q36,Q42) -> 1475.94 | R43: 1719.43 | S43: 1829.51
B44: Net profit attribute to:
...

Sheet Balance sheet
B5: Dabur India ltd
B6: DABURINDIA| BSE Code : 524715)
B7: Sector: Fast Moving Consumer Goods
B8: Historical Financial Statement - Dabur India ltd
B9: Balancesheet
B10: Particulars | K10: Notes | M10: FY-2021 | N10: FY-2022 | O10: FY-2023 | P10: FY-2024 | Q10: FY-2025
B11: ASSETS
B12: Non-current asssets
B13: a) | C13: property ,plant and equipment | M13: 1811.7 | N13: 1967.95 | O13: 2237.62 | P13: 2560.94 | Q13: 2799.88
B14: b) | C14: capital work in progress | M14: 147.3 | N14: 167.5 | O14: 175.13 | P14: 209.09 | Q14: 166.41
B15: c) | C15: investment property | M15: 50.5 | N15: 49.07 | O15: 47.05 | P15: 45.45 | Q15: 43.5
B16: d) | C16: Goodwill | M16: 336.01 | N16: 251.15 | O16: 405.25 | P16: 405.12 | Q16: 405.09
B17: e) | C17: Other intangible assets | M17: 44.71 | N17: 39.73 | O17: 888.73 | P17: 803.49 | Q17: 741.22
B18: f) | C18: Intangible assets under development | P18: 23.14 | Q18: 2.58
B19: g) | C19: Investment in joint venture | M19: 11.27 | N19: 9.47 | O19: 7.84 | P19: 7.33 | Q19: 7.58
B20: h) | C20: Financial assets
C21: (i) | D21: other investment | M21: 3402.35 | N21: 5355.59 | O21: 5520.95 | P21: 5278.76 | Q21: 5372.43
C22: (ii) | D22: others | M22: 88.65 | N22: 23.32 | O22: 30.39 | P22: 20.83 | Q22: 21.39
C23: (iii) | D23: Loans | M23: 22.48
B24: i) | C24: deferred tax assets (net) | M24: 17.95 | N24: 0.67 | O24: 2.09 | P24: 6.32 | Q24: 2.53
B25: i) | C25: Non-current Tax assets (net) | M25: 4.29 | N25: 4.5 | O25: 4.49 | P25: 4.45 | Q25: 0.16
B26: k) | C26: Other non-current assests | M26: 133.98 | N26: 98.74 | O26: 85.87 | P26: 98.14 | Q26: 136.3
B27: Total non-current assets | M27: =SUM(M13:M26) -> 6071.19 | N27: =SUM(N13:N26) -> 7967.69 | O27: =SUM(O13:O26) -> 9405.41 | P27: 9443.06 | Q27: 9699.82
B28: Current assets
B29: a) | C29: Inventories | M29: 1734.28 | N29: 1911.37 | O29: 2024.2 | P29: 1946.97 | Q29: 2300.11
B30: b) | C30: Financial assets
C31: (i) | D31: Investment | M31: 746.01 | N31: 854.56 | O31: 736.47 | P31: 1666.6 | Q31: 2087.55
C32: (ii) | D32: Trade Receivable | M32: 561.58 | N32: 646.15 | O32: 848.75 | P32: 898.72 | Q32: 888.5
C33: (iii) | D33: Cash and cash equivalent | M33: 241.23 | N33: 255.91 | O33: 146.82 | P33: 247.6 | Q33: 184.27
C34: (iv) | D34: Bank Balance other than (iii) above | M34: 1087.8 | N34: 314.23 | O34: 179.1 | P34: 418.76 | Q34: 393.74
C35: (v) | D35: Others | M35: 2.95 | N35: 36.21 | O35: 28.97 | P35: 42.51 | Q35: 44.02
C36: (iv) | D36: Loans | M36: 14.46
B37: c) | C37: Current Tax Assets (net) | M37: 0.24 | N37: 0.64 | O37: 6.43 | P37: 0.08 | Q37: 2.56
B38: d) | C38: Other Current assets | M38: 387.12 | N38: 297.47 | O38: 278.22 | P38: 458.38 | Q38: 631.71
B39: e) | C39: Assets held for sale | M39: 0.27
B40: Total Current assets | M40: =SUM(M29:M39) -> 4775.94 | N40: =SUM(N29:N38) -> 4316.54 | O40: =SUM(O29:O38) -> 4248.96 | P40: 5679.62 | Q40: 6532.46
B41: Total assets | M41: =SUM(M40,M27) -> 10847.13 | N41: =N40+N27 -> 12284.23 | O41: =SUM(O40,O27) -> 13654.37 | P41: 15122.68 | Q41: 16232.28
B42: EQUITY AND LIABILITY
B43: Equity
B44: a) | C44: Equity share capital | M44: 176.74 | N44: 176.79 | O44: 177.18 | P44: 177.2 | Q44: 177.23
...

Sheet Cash Flow 
B5: Dabur India ltd
C6: DABURINDIA| BSE Code : 524715)
C7: Sector: Fast Moving Consumer Goods
B8: Historical Financial Statement - Dabur India ltd
B9: Income Statement
B10: Particulars | M10: Notes | N10: FY-2021 | O10: FY-2022 | P10: FY-2023 | Q10: FY-2024 | R10: FY-2025
B11: A | C11: CASH FLOW FROM OPERATING ACTIVITIES
C12: profit before Tax | N12: 2056.02 | O12: 2268.68 | P12: 2218.68 | Q12: 2358.74 | R12: 2257.89
C13: Adjustment for :
C14: depriciation and amortisation expenses | N14: 240.13 | O14: 252.89 | P14: 310.96 | Q14: 399.21 | R14: 445.6
C15: Loss/gain on the disposal of property , plant and equipment(net) | N15: 0.37 | O15: 0.62 | P15: -14.41 | Q15: 1.78 | R15: -6.67
C16: Shared based payment expenses | N16: 43.3 | O16: 40.02 | P16: 51.23 | Q16: 50.43 | R16: 13.5
C17: Provision for disputed liability | N17: 13.5 | O17: 11.5 | P17: 12 | Q17: 15 | R17: 10.5
C18: Expected credit loss/impairment of financial and non-financial assets | N18: 5.94 | O18: -7.15 | P18: 0.71 | Q18: 8.14 | R18: 3.81
C19: provision for employee benefits | N19: 15.77 | O19: 2.3 | P19: 16.69 | Q19: 24.83 | R19: 3.14
C20: Finance Costs | N20: 30.81 | O20: 38.6 | P20: 78.24 | Q20: 124.18 | R20: 163.51
C21: unrealised foreign exchange loss/(gain)(net) | N21: 1.11 | O21: -6.25 | P21: -4.28 | Q21: 1.01 | R21: 2.69
C22: interest incomes | N22: -260.78 | O22: -323.34 | P22: -361.13 | Q22: -393.1 | R22: -408.16
C23: Share of loss of joint venture | N23: 1.01 | O23: 1.8 | P23: 1.63 | Q23: 0.51 | R23: -0.55
C24: (gain)/loss on the fair value if financial instrument (net) | N24: 0.76 | O24: -1.29 | P24: 1.26 | Q24: -39.45 | R24: -28.15
C25: Net gain on sale of financial assets measured at FVTPL | N25: -15.82 | O25: -11.15 | P25: -23.65 | Q25: -18.51 | R25: -77.95
C26: Net gain on sale of financial assets measured at FVTPL | N26: -12.26 | O26: -5.02
C27: Net gain on sale of financial assets measured at amortised Cost | N27: -0.42
C28: Effect of exchange rates on translation of operating cashflows | N28: -71.81 | O28: -60.5 | P28: -144.98 | Q28: -126.52 | R28: 23.1
C29: Exceptional Item | O29: 85
C30: Operating Profit before working capital chages and other adjustments | N30: =SUM(N12:N29) -> 2047.63 | O30: =SUM(O12:O29) -> 2286.71 | P30: =SUM(P12:P28) -> 2142.95 | Q30: =SUM(Q12:Q28) -> 2406.25 | R30: =SUM(R12:R28) -> 2402.26
C31: Working capital changes and other adjustments:
C32: Inventories | N32: -354.71 | O32: -177.1 | P32: -96.02 | Q32: 77.24 | R32: -353.14
C33: Trade receivable | N33: 247.79 | O33: -78.37 | P33: -190.79 | Q33: -55.34 | R33: 12.22
C34: curernt and Non- Current financial assets | N34: 0.44 | O34: -18.49 | P34: 19.32 | Q34: -4.92 | R34: 1.46
C35: Other current and non-current assets | N35: 79.83 | O35: 88.48 | P35: 17.39 | Q35: -203.77 | R35: -208.86
C36: Trade payable | N36: 433.78 | O36: 108.01 | P36: 141.3 | Q36: 216.57 | R36: 407.18
C37: other current and non-current financial liabilities | N37: 62.5 | O37: 47.71 | P37: 43.11 | Q37: 26.19 | R37: 97.74
C38: Other current liabilities anf Provisions | N38: -81.27 | O38: -67.02 | P38: -94.38 | Q38: 45.17 | R38: 32.43
C39: Cash Flow from operating activities post working capital changes | N39: =SUM(N30:N38) -> 2435.99 | O39: =SUM(O30:O38) -> 2189.93 | P39: =SUM(P30:P38) -> 1982.88 | Q39: =SUM(Q30:Q38) -> 2507.39 | R39: =SUM(R30:R38) -> 2391.29
C40: Direct taxes paid(net of refund) | N40: -321.32 | O40: -387.6 | P40: -494.45 | Q40: -493.92 | R40: -404.54
C41: Net cash flow from operating activities (A) | N41: =SUM(N39:N40) -> 2114.67 | O41: =SUM(O39:O40) -> 1802.33 | P41: =SUM(P39:P40) -> 1488.43 | Q41: =Q39+Q40 -> 2013.47 | R41: =R39+R40 -> 1986.75
B43: B | C43: CASH FLOW FROM INVESTING ACTIVITIES
C44: Acquisition of property , plant and equipment , capital work in progress and intangible assets | N44: -311.21 | O44: -374.13 | P44: -509.09 | Q44: -563.86 | R44: -569.54
C45: Prceeds from diaposal of property ,plant and equipment | N45: 4.88 | O45: 4.93 | P45: 23.38 | Q45: 2.98 | R45: 30.43
...

Sheet Sstatment of Equity
B2: Consolidated Statement of Change of Equity
B3: For the year ended 31 march 2025
B4: A | C4: Equity Share Capital
B5: Particulars | N5: Number of Shares | P5: Amount
B6: Balance as at 01 April 2023 | N6: 1771763464 | P6: 177.18
B7: Issued during the year | N7: 275698 | P7: 0.03
B8: Balance as at 31 March 2024 | N8: 1772039162 | P8: 177.2
B10: Balance as at 01 April 2024 | N10: 1772039162 | P10: 177.2
B11: Issued during the year | N11: 279090 | P11: 0.03
B12: Balance as at 31 March 2025 | N12: 1772318252 | P12: 177.23
B13: Refer note 20
B14: B. | C14: Other Equity
B15: Particulars | K15: Attributable to Owner of the Holding Company | Q15: total | R15: Attributable | S15: Total
K16: Reserves and Surplus | O16: Other comprehensive | Q16: attributable | R16: to non-
O17: income (OCI) | Q17: to owner | R17: controlling
F18: capital reserve | G18: Securites Premium | H18: Statutory Reserve | I18: Special fund | J18: Employee housing reserve | K18: Share option outstanding account | L18: General reserve | M18: Inflationary Reserve | N18: Retained earning | O18: Foreign currency translation reserve | P18: debt instrument through OCI | Q18: ot the Holding Company | R18: Interest
B20: Balance as at 01 April 2023 | F20: 26.92 | G20: 520.95 | H20: 14.66 | I20: 3.14 | J20: 17.97 | K20: 59.08 | L20: 513.43 | N20: 8125.33 | O20: -373.49 | P20: -111.91 | Q20: 8796.08 | R20: 468.17 | S20: 9264.25
B21: Profit for the year | F21: - | G21: -
B22: Other comprehensive income for the year | F22: -
C23: Re-Measurment loss on defined benefit plans(net of tax of (1.05)crores) | F23: -
C24: Net fair value loss on investment measured through OCI (net of tax of 11.09 crores) | F24: -
C25: Movement in forign currency translation reserve during the year | F25: -
B26: total comprehensive income for the year | F26: -
B27: Recognition of share based payment expenses | F27: -
B28: transfer from share optiom outstanding account on the exercises of options | F28: - | G28: -13.44 | H28: - | I28: - | J28: - | L28: - | M28: - | N28: - | O28: - | P28: - | Q28: - | R28: - | S28: -
B29: transaction with owners in their capacity as Owners | F29: -
C30: Dividend (refer note 46) | F30: -
B31: Hyperinflation Adjustment (refer note 68) | F31: -
B32: Adjustment for amalgamnation adjystment account | F32: -
B33: Balnce as at 31 march 2024

Sheet Fore - P& L
B5: Dabur India ltd
C6: DABURINDIA| BSE Code : 524715)
C7: Sector: Fast Moving Consumer Goods
B8: Historical Financial Statement - Dabur India ltd | T8: Basis of forecasting | U8: Forecasted Financial Statement - Dabur India ltd
B9: Income Statement | U9: Forecasted Income Statement
B10: Particulars | M10: Notes | O10: FY-2021 | P10: FY-2022 | Q10: FY-2023 | R10: FY-2024 | S10: FY-2025 | U10: FY-2026 | V10: FY-2027 | W10: FY-2028 | X10: FY-2029 | Y10: FY-2030
B11: Income
B12: Revenue from operations | O12: 9561.65 | P12: 10888.68 | Q12: 11529.89 | R12: 12404.01 | S12: =12563.09 -> 12563.09 | U12: =S12*(1+$T$13) -> 13819.399 | V12: =U12*(1+$T$13) -> 15201.339 | W12: =V12*(1+$T$13) -> 16721.473 | X12: =W12*(1+$T$13) -> 18393.62 | Y12: =X12*(1+$T$13) -> 20232.982
B13: Growth rate | P13: =P12/O12-1 -> 0.13878672 | Q13: =Q12/P12-1 -> 0.058887762 | R13: =R12/Q12-1 -> 0.075813386 | S13: =S12/R12-1 -> 0.012824885 | T13: 0.1 | AA13: on the basis of MDA report FMCG is projected to grow by 10-15% rate so we have taken company growth rate as 10%
B14: COGS | O14: 4758.86 | P14: 5639.69 | Q14: 6268.67 | R14: 6446.96 | S14: 6507.86 | U14: =U12*$T$15 -> 7284.9006 | V14: =V12*$T$15 -> 8013.3906 | W14: =W12*$T$15 -> 8814.7297 | X14: =X12*$T$15 -> 9696.2026 | Y14: =Y12*$T$15 -> 10665.823 | AA14: COGS will be forecasted as averaeg of margini of COGS in comparisiono of Sales
B15: Margin | O15: =O14/$O$12 -> 0.4977028 | P15: =P14/$P$12 -> 0.51794065 | Q15: =Q14/$Q$12 -> 0.54368862 | R15: =R14/$R$12 -> 0.51974805 | S15: =S14/$S$12 -> 0.51801428 | T15: =AVERAGE(Q15:S15) -> 0.52715032
B16: Gross Profit | O16: =O12-O14 -> 4802.79 | P16: =P12-P14 -> 5248.99 | Q16: =Q12-Q14 -> 5261.22 | R16: =R12-R14 -> 5957.05 | S16: =S12-S14 -> 6055.23 | U16: =U12-U14 -> 6534.4984 | V16: =V12-V14 -> 7187.9483 | W16: =W12-W14 -> 7906.7431 | X16: =X12-X14 -> 8697.4174 | Y16: =Y12-Y14 -> 9567.1592
B17: Margin | O17: =O16/$O$12 -> 0.5022972 | P17: =P16/$P$12 -> 0.48205935 | Q17: =Q16/$Q$12 -> 0.45631138 | R17: =R16/$R$12 -> 0.48025195 | S17: =S16/$S$12 -> 0.48198572
B18: Operating expenses | O18: 2770.01 | P18: 2995.18 | Q18: 3097.1 | R18: 3556.82 | S18: 3711.89 | U18: =U12*$T$19 -> 3919.2849 | V18: =V12*$T$19 -> 4311.2133 | W18: =W12*$T$19 -> 4742.3347 | X18: =X12*$T$19 -> 5216.5681 | Y18: =Y12*$T$19 -> 5738.225 | AA18: Operating expenses will be forecasted on as average of margin of sales of past year
B19: Margin | O19: =O18/$O$12 -> 0.2897 | P19: =P18/$P$12 -> 0.27507283 | Q19: =Q18/$Q$12 -> 0.26861488 | R19: =R18/$R$12 -> 0.28674759 | S19: =S18/$S$12 -> 0.29545995 | T19: =AVERAGE(Q19:S19) -> 0.28360747
B20: EBITDA | O20: =O16-O18 -> 2032.78 | P20: =P16-P18 -> 2253.81 | Q20: =Q16-Q18 -> 2164.12 | R20: =R16-R18 -> 2400.23 | S20: =S16-S18 -> 2343.34 | U20: =U16-U18 -> 2615.2136 | V20: =V16-V18 -> 2876.7349 | W20: =W16-W18 -> 3164.4084 | X20: =X16-X18 -> 3480.8493 | Y20: =Y16-Y18 -> 3828.9342
B21: Margin | O21: =O20/$O$12 -> 0.2125972 | P21: =P20/$P$12 -> 0.20698652 | Q21: =Q20/$Q$12 -> 0.1876965 | R21: =R20/$R$12 -> 0.19350436 | S21: =S20/$S$12 -> 0.18652577
B22: Depreciation an amortaisation expenses | O22: 240.13 | P22: 252.89 | Q22: 310.96 | R22: 399.21 | S22: 445.6 | U22: =-'Fore - Cash Flow'!T44*'Fore - P& L'!$T$23 -> 422.41282 | V22: =-'Fore - Cash Flow'!U44*'Fore - P& L'!$T$23 -> 441.41382 | W22: =-'Fore - Cash Flow'!V44*'Fore - P& L'!$T$23 -> 461.26953 | X22: =-'Fore - Cash Flow'!W44*'Fore - P& L'!$T$23 -> 482.01839 | Y22: =-'Fore - Cash Flow'!X44*'Fore - P& L'!$T$23 -> 503.70057 | AA22: forecasted as average of percentage of capex because company is directly linked to capex
B23: Margin | O23: =O22/'Fore - Cash Flow'!N44 -> -0.77160117 | P23: =P22/'Fore - Cash Flow'!O44 -> -0.67594152 | Q23: =Q22/'Fore - Cash Flow'!P44 -> -0.61081538 | R23: =R22/'Fore - Cash Flow'!Q44 -> -0.70799489 | S23: =S22/'Fore - Cash Flow'!R44 -> -0.78238579 | T23: =AVERAGE(O23:S23) -> -0.70974775
B24: EBIT | O24: =O20-O22 -> 1792.65 | P24: =P20-P22 -> 2000.92 | Q24: =Q20-Q22 -> 1853.16 | R24: =R20-R22 -> 2001.02 | S24: =S20-S22 -> 1897.74 | U24: =U20-U22 -> 2192.8008 | V24: =V20-V22 -> 2435.3211 | W24: =W20-W22 -> 2703.1389 | X24: =X20-X22 -> 2998.8309 | Y24: =Y20-Y22 -> 3325.2336
B25: Margin | O25: =O24/$O$12 -> 0.18748333 | P25: =P24/$P$12 -> 0.18376148 | Q25: =Q24/$Q$12 -> 0.1607266 | R25: =R24/$R$12 -> 0.16132041 | S25: =S24/$S$12 -> 0.15105679
B26: Finance cost | O26: 30.81 | P26: 38.6 | Q26: 78.24 | R26: 124.18 | S26: 163.5 | U26: =U12*$T$27 -> 159.09993 | V26: =V12*$T$27 -> 175.00992 | W26: =W12*$T$27 -> 192.51091 | X26: =X12*$T$27 -> 211.762 | Y26: =Y12*$T$27 -> 232.9382
B27: Margin | O27: =O26/$O$12 -> 0.0032222472 | P27: =P26/$P$12 -> 0.003544966 | Q27: =Q26/$Q$12 -> 0.006785841 | R27: =R26/$R$12 -> 0.010011279 | S27: =S26/$S$12 -> 0.013014314 | T27: =AVERAGE(R27:S27) -> 0.011512796
B28: EBT | O28: =O24-O26 -> 1761.84 | P28: =P24-P26 -> 1962.32 | Q28: =Q24-Q26 -> 1774.92 | R28: =R24-R26 -> 1876.84 | S28: =S24-S26 -> 1734.24 | U28: =U24-U26 -> 2033.7008 | V28: =V24-V26 -> 2260.3112 | W28: =W24-W26 -> 2510.628 | X28: =X24-X26 -> 2787.0689 | Y28: =Y24-Y26 -> 3092.2954
B29: Other Incomes | O29: 325.29 | P29: 393.16 | Q29: 445.39 | R29: 482.41 | S29: 550.1
B30: Share of loss of joint venture | O30: -1.01 | P30: -1.8 | Q30: -1.63 | R30: -0.51 | S30: 0.55
B31: exceptional items | P31: -85
B32: Profit Befor Tax and after Adjustments | O32: =SUM(O28:O31) -> 2086.12 | P32: =SUM(P28:P31) -> 2268.68 | Q32: =SUM(Q28:Q31) -> 2218.68 | R32: =SUM(R28:R31) -> 2358.74 | S32: =SUM(S28:S31) -> 2284.89 | U32: =U28 -> 2033.7008 | V32: =V28 -> 2260.3112 | W32: =W28 -> 2510.628 | X32: =X28 -> 2787.0689 | Y32: =Y28 -> 3092.2954
B33: Tax expenses
B34: Current tax | O34: 363.04 | P34: 442.17 | Q34: 481.63 | R34: 539.53 | S34: 499.06 | T34: 0.25 | U34: =U32*$T$34 -> 508.42521 | V34: =V32*$T$34 -> 565.0778 | W34: =W32*$T$34 -> 627.657 | X34: =X32*$T$34 -> 696.76722 | Y34: =Y32*$T$34 -> 773.07386
B35: Defrred tax | O35: -1.97 | P35: 84.21 | Q35: 35.72 | R35: 7.9 | S35: 18.41
B36: Total tax Expense | O36: =SUM(O34:O35) -> 361.07 | P36: =SUM(P34:P35) -> 526.38 | Q36: =SUM(Q34:Q35) -> 517.35 | R36: 547.43 | S36: 517.47
B37: Net profit for the year | O37: =O32-O36 -> 1725.05 | P37: =P32-P36 -> 1742.3 | Q37: =Q32-Q36 -> 1701.33 | R37: =R32-R36 -> 1811.31 | S37: =S32-S36 -> 1767.42 | U37: =U32-U34 -> 1525.2756 | V37: =V32-V34 -> 1695.2334 | W37: =W32-W34 -> 1882.971 | X37: =X32-X34 -> 2090.3017 | Y37: =Y32-Y34 -> 2319.2216
B38: Margin | O38: =O37/$O$12 -> 0.18041342 | P38: =P37/$P$12 -> 0.16001021 | Q38: =Q37/$Q$12 -> 0.14755822 | R38: =R37/$R$12 -> 0.14602616 | S38: =S37/$S$12 -> 0.14068354
B39: Other comprensive Income
B40: A | C40: (i) | D40: items that wil not be reclassified to profit and loss | O40: 6.6 | P40: 15.27 | Q40: -2.21 | R40: -2.93 | S40: 4.75
C41: (ii) | D41: Income tax relating to items that will not be reclassified to profit or loss | O41: -2.4 | P41: -7.55 | Q41: 0.77 | R41: 1.05 | S41: -1.65
B42: B | C42: (i) | D42: items that wil be reclassified to profit and loss | O42: -98.66 | P42: -106.97 | Q42: -247.93 | R42: -78.91 | S42: 105.09
C43: (ii) | D43: Income tax relating to items that will be reclassified to profit or loss | O43: 6.25 | P43: 10.83 | Q43: 23.98 | R43: -11.09 | S43: -19.1
B44: Total Other comprehensive income | O44: =SUM(O40:O43) -> -88.21 | P44: =SUM(P40:P43) -> -88.42 | Q44: =SUM(Q40:Q43) -> -225.39 | R44: -91.88 | S44: 89.09
...

Sheet Fore - Balan
B5: Dabur India ltd
B6: DABURINDIA| BSE Code : 524715)
B7: Sector: Fast Moving Consumer Goods
B8: Historical Financial Statement - Dabur India ltd | R8: Basis of forecasting | S8: Forecasted Financial Statement - Dabur India ltd
B9: Balancesheet | S9: Forecasted Balancesheet
B10: Particulars | K10: Notes | M10: FY-2021 | N10: FY-2022 | O10: FY-2023 | P10: FY-2024 | Q10: FY-2025 | S10: FY-2026 | T10: FY-2027 | U10: FY-2028 | V10: FY-2029 | W10: FY-2030
B11: ASSETS
B12: Non-current asssets
B13: a) | C13: property ,plant and equipment | M13: 1811.7 | N13: 1967.95 | O13: 2237.62 | P13: 2560.94 | Q13: 2799.88 | S13: =Q13+'Fore - Cash Flow'!T44-'Fore - Cash Flow'!T14 -> 2972.6263 | T13: =S13+'Fore - Cash Flow'!U44-'Fore - Cash Flow'!U14 -> 3153.143 | U13: =T13+'Fore - Cash Flow'!V44-'Fore - Cash Flow'!V14 -> 3341.7798 | V13: =U13+'Fore - Cash Flow'!W44-'Fore - Cash Flow'!W14 -> 3538.9018 | W13: =V13+'Fore - Cash Flow'!X44-'Fore - Cash Flow'!X14 -> 3744.8908
C14: Margin | M14: =M13/$M$59 -> 0.16700597 | N14: =N13/$N$59 -> 0.16018872 | O14: =O13/$O$59 -> 0.16386407 | P14: =P13/$P$59 -> 0.16934432 | Q14: =Q13/$Q$59 -> 0.1724884 | R14: Assumption - 1
B15: b) | C15: capital work in progress | M15: 147.3 | N15: 167.5 | O15: 175.13 | P15: 209.09 | Q15: 166.41 | S15: =Q15*(1+R16) -> 173.89547 | T15: =S15*(1+$R$16) -> 181.71764 | U15: =T15*(1+$R$16) -> 189.89168 | V15: =U15*(1+$R$16) -> 198.4334 | W15: =V15*(1+$R$16) -> 207.35934
C16: Margin | M16: =M15/$M$59 -> 0.013578395 | N16: =N15/$N$59 -> 0.013634295 | O16: =O15/$O$59 -> 0.012825017 | P16: =P15/$P$59 -> 0.013826253 | Q16: =Q15/$Q$59 -> 0.010251795 | R16: =-'Fore - Cash Flow'!$S$45 -> 0.044982067
B17: c) | C17: investment property | M17: 50.5 | N17: 49.07 | O17: 47.05 | P17: 45.45 | Q17: 43.5 | S17: 43.5 | T17: 43.5 | U17: 43.5 | V17: 43.5 | W17: 43.5
C18: Margin | M18: =M17/$M$59 -> 0.0046551864 | N18: =N17/$N$59 -> 0.0039942379 | O18: =O17/$O$59 -> 0.0034455378 | P18: =P17/$P$59 -> 0.0030054197 | Q18: =Q17/$Q$59 -> 0.0026798453 | R18: Constant
B19: d) | C19: Goodwill | M19: 336.01 | N19: 251.15 | O19: 405.25 | P19: 405.12 | Q19: 405.09 | S19: 405.09 | T19: 405.09 | U19: 405.09 | V19: 405.09 | W19: 405.09
C20: Margin | M20: =M19/$M$59 -> 0.030974043 | N20: =N19/$N$59 -> 0.020443302 | O20: =O19/$O$59 -> 0.029677029 | P20: =P19/$P$59 -> 0.026788902 | Q20: =Q19/$Q$59 -> 0.024955829 | R20: Constant
B21: e) | C21: Other intangible assets | M21: 44.71 | N21: 39.73 | O21: 888.73 | P21: 803.49 | Q21: 741.22 | S21: 741.22 | T21: 741.22 | U21: 741.22 | V21: 741.22 | W21: 741.22
C22: Margin | M22: =M21/$M$59 -> 0.0041214532 | N22: =N21/$N$59 -> 0.0032339733 | O22: =O21/$O$59 -> 0.065082951 | P22: =P21/$P$59 -> 0.053131456 | Q22: =Q21/$Q$59 -> 0.045663333 | R22: Constant
B23: f) | C23: Intangible assets under development | P23: 23.14 | Q23: 2.58 | S23: -- | T23: -- | U23: -- | V23: -- | W23: --
C24: Margin | P24: =P23/$P$59 -> 0.0015301521 | Q24: =Q23/$Q$59 -> 0.00015894255 | R24: Can not
B25: g) | C25: Investment in joint venture | M25: 11.27 | N25: 9.47 | O25: 7.84 | P25: 7.33 | Q25: 7.58 | S25: 7.58 | T25: 7.58 | U25: 7.58 | V25: 7.58 | W25: 7.58
C26: Margin | M26: =M25/$M$59 -> 0.0010388901 | N26: =N25/$N$59 -> 0.00077084639 | O26: =O25/$O$59 -> 0.00057413425 | P26: =P25/$P$59 -> 0.00048470245 | Q26: =Q25/$Q$59 -> 0.00046697075 | R26: Constant
B27: h) | C27: Financial assets
C28: (i) | D28: other investment | M28: 3402.35 | N28: 5355.59 | O28: 5520.95 | P28: 5278.76 | Q28: 5372.43 | S28: 5372.43 | T28: 5372.43 | U28: 5372.43 | V28: 5372.43 | W28: 5372.43
C29: (ii) | D29: others | M29: 88.65 | N29: 23.32 | O29: 30.39 | P29: 20.83 | Q29: 21.39 | S29: 21.39 | T29: 21.39 | U29: 21.39 | V29: 21.39 | W29: 21.39
C30: (iii) | D30: Loans | M30: 22.48
C31: Margin | M31: =(M29+M30+M28)/$M$59 -> 0.3238793 | N31: =(N30+N29+N28)/$N$59 -> 0.43783668 | O31: =(O30+O29+O28)/$O$59 -> 0.40653245 | P31: =(P30+P29+P28)/$P$59 -> 0.35043987 | Q31: =(Q30+Q29+Q28)/$Q$59 -> 0.33228973 | R31: Constant
B32: i) | C32: deferred tax assets (net) | M32: 17.95 | N32: 0.67 | O32: 2.09 | P32: 6.32 | Q32: 2.53
B33: i) | C33: Non-current Tax assets (net) | M33: 4.29 | N33: 4.5 | O33: 4.49 | P33: 4.45 | Q33: 0.16
B34: k) | C34: Other non-current assests | M34: 133.98 | N34: 98.74 | O34: 85.87 | P34: 98.14 | Q34: 136.3
B35: Total non-current assets | M35: =SUM(M13:M34) -> 6071.7353 | N35: =SUM(N13:N34) -> 7968.3301 | O35: =SUM(O13:O34) -> 9406.092 | P35: 9443.06 | Q35: 9699.82
B36: Current assets
B37: a) | C37: Inventories | M37: 1734.28 | N37: 1911.37 | O37: 2024.2 | P37: 1946.97 | Q37: 2300.11 | S37: =RATIOS!$N$103/365*'Fore - P& L'!U14 -> 2694.4153 | T37: =RATIOS!$N$103/365*'Fore - P& L'!V14 -> 2963.8568 | U37: =RATIOS!$N$103/365*'Fore - P& L'!W14 -> 3260.2425 | V37: =RATIOS!$N$103/365*'Fore - P& L'!X14 -> 3586.2667 | W37: =RATIOS!$N$103/365*'Fore - P& L'!Y14 -> 3944.8934
C38: Margin | M38: =M37/$M$59 -> 0.15986924 | N38: =N37/$N$59 -> 0.15558318 | O38: =O37/$O$59 -> 0.14823502 | P38: =P37/$P$59 -> 0.12874504 | Q38: =Q37/$Q$59 -> 0.14169975 | R38: DIO
B39: b) | C39: Financial assets
C40: (i) | D40: Investment | M40: 746.01 | N40: 854.56 | O40: 736.47 | P40: 1666.6 | Q40: 2087.55
D41: Margin | M41: =M40/$M$59 -> 0.068768626 | N41: =N40/$N$59 -> 0.069560137 | O41: =O40/$O$59 -> 0.053932736 | P41: =P40/$P$59 -> 0.11020533 | Q41: =Q40/$Q$59 -> 0.12860485
C42: (ii) | D42: Trade Receivable | M42: 561.58 | N42: 646.15 | O42: 848.75 | P42: 898.72 | Q42: 888.5 | S42: =RATIOS!$N$102/365*'Fore - P& L'!U12 -> 946.53418 | T42: =RATIOS!$N$102/365*'Fore - P& L'!V12 -> 1041.1876 | U42: =RATIOS!$N$102/365*'Fore - P& L'!W12 -> 1145.3064 | V42: =RATIOS!$N$102/365*'Fore - P& L'!X12 -> 1259.837 | W42: =RATIOS!$N$102/365*'Fore - P& L'!Y12 -> 1385.8207
D43: Margin | M43: =M42/$M$59 -> 0.051767517 | N43: =N42/$N$59 -> 0.052595818 | O43: =O42/$O$59 -> 0.062155159 | P43: =P42/$P$59 -> 0.05942862 | Q43: =Q42/$Q$59 -> 0.054736611 | R43: DSO
C44: (iii) | D44: Cash and cash equivalent | M44: 241.23 | N44: 255.91 | O44: 146.82 | P44: 247.6 | Q44: 184.27 | S44: =S59*$R$45 -> 186.69923 | T44: =T59*$R$45 -> 194.03778 | U44: =U59*$R$45 -> 201.97254 | V44: =V59*$R$45 -> 210.55693 | W44: =W59*$R$45 -> 219.84944
...

Sheet Fore - Cash Flow
B5: Dabur India ltd
C6: DABURINDIA| BSE Code : 524715)
C7: Sector: Fast Moving Consumer Goods
B8: Historical Financial Statement - Dabur India ltd | S8: Basis of forecasting | T8: Forecasted Financial Statement - Dabur India ltd
B9: Income Statement | T9: Forecasted Cashflow
B10: Particulars | M10: Notes | N10: FY-2021 | O10: FY-2022 | P10: FY-2023 | Q10: FY-2024 | R10: FY-2025 | T10: FY-2026 | U10: FY-2027 | V10: FY-2028 | W10: FY-2029 | X10: FY-2030
B11: A | C11: CASH FLOW FROM OPERATING ACTIVITIES
C12: profit before Tax | N12: 2056.02 | O12: 2268.68 | P12: 2218.68 | Q12: 2358.74 | R12: 2257.89 | T12: ='Fore - P& L'!U32 -> 2033.7008 | U12: ='Fore - P& L'!V32 -> 2260.3112 | V12: ='Fore - P& L'!W32 -> 2510.628 | W12: ='Fore - P& L'!X32 -> 2787.0689 | X12: ='Fore - P& L'!Y32 -> 3092.2954
C13: Adjustment for :
C14: depriciation and amortisation expenses | N14: 240.13 | O14: 252.89 | P14: 310.96 | Q14: 399.21 | R14: 445.6 | S14: % of Sales | T14: ='Fore - P& L'!U22 -> 422.41282 | U14: ='Fore - P& L'!V22 -> 441.41382 | V14: ='Fore - P& L'!W22 -> 461.26953 | W14: ='Fore - P& L'!X22 -> 482.01839 | X14: ='Fore - P& L'!Y22 -> 503.70057
C15: Loss/gain on the disposal of property , plant and equipment(net) | N15: 0.37 | O15: 0.62 | P15: -14.41 | Q15: 1.78 | R15: -6.67 | S15: NA
C16: Shared based payment expenses | N16: 43.3 | O16: 40.02 | P16: 51.23 | Q16: 50.43 | R16: 13.5 | S16: NA
C17: Provision for disputed liability | N17: 13.5 | O17: 11.5 | P17: 12 | Q17: 15 | R17: 10.5 | S17: NA
C18: Expected credit loss/impairment of financial and non-financial assets | N18: 5.94 | O18: -7.15 | P18: 0.71 | Q18: 8.14 | R18: 3.81 | S18: NA
C19: provision for employee benefits | N19: 15.77 | O19: 2.3 | P19: 16.69 | Q19: 24.83 | R19: 3.14 | S19: NA
C20: Finance Costs | N20: 30.81 | O20: 38.6 | P20: 78.24 | Q20: 124.18 | R20: 163.51 | S20: P&L | T20: ='Fore - P& L'!U26 -> 159.09993 | U20: ='Fore - P& L'!V26 -> 175.00992 | V20: ='Fore - P& L'!W26 -> 192.51091 | W20: ='Fore - P& L'!X26 -> 211.762 | X20: ='Fore - P& L'!Y26 -> 232.9382
C21: unrealised foreign exchange loss/(gain)(net) | N21: 1.11 | O21: -6.25 | P21: -4.28 | Q21: 1.01 | R21: 2.69 | S21: NA
C22: interest incomes | N22: -260.78 | O22: -323.34 | P22: -361.13 | Q22: -393.1 | R22: -408.16 | S22: NA
C23: Share of loss of joint venture | N23: 1.01 | O23: 1.8 | P23: 1.63 | Q23: 0.51 | R23: -0.55 | S23: NA
C24: (gain)/loss on the fair value if financial instrument (net) | N24: 0.76 | O24: -1.29 | P24: 1.26 | Q24: -39.45 | R24: -28.15 | S24: NA
C25: Net gain on sale of financial assets measured at FVTPL | N25: -15.82 | O25: -11.15 | P25: -23.65 | Q25: -18.51 | R25: -77.95 | S25: NA
C26: Net gain on sale of financial assets measured at FVTPL | N26: -12.26 | O26: -5.02 | S26: NA
C27: Net gain on sale of financial assets measured at amortised Cost | N27: -0.42 | S27: NA
C28: Effect of exchange rates on translation of operating cashflows | N28: -71.81 | O28: -60.5 | P28: -144.98 | Q28: -126.52 | R28: 23.1 | S28: NA
C29: Exceptional Item | O29: 85 | S29: NA
C30: Operating Profit before working capital chages and other adjustments | N30: =SUM(N12:N29) -> 2047.63 | O30: =SUM(O12:O29) -> 2286.71 | P30: =SUM(P12:P28) -> 2142.95 | Q30: =SUM(Q12:Q28) -> 2406.25 | R30: =SUM(R12:R28) -> 2402.26
C31: Working capital changes and other adjustments:
C32: Inventories | N32: -354.71 | O32: -177.1 | P32: -96.02 | Q32: 77.24 | R32: -353.14
C33: Trade receivable | N33: 247.79 | O33: -78.37 | P33: -190.79 | Q33: -55.34 | R33: 12.22
C34: curernt and Non- Current financial assets | N34: 0.44 | O34: -18.49 | P34: 19.32 | Q34: -4.92 | R34: 1.46
C35: Other current and non-current assets | N35: 79.83 | O35: 88.48 | P35: 17.39 | Q35: -203.77 | R35: -208.86
C36: Trade payable | N36: 433.78 | O36: 108.01 | P36: 141.3 | Q36: 216.57 | R36: 407.18
C37: other current and non-current financial liabilities | N37: 62.5 | O37: 47.71 | P37: 43.11 | Q37: 26.19 | R37: 97.74
C38: Other current liabilities anf Provisions | N38: -81.27 | O38: -67.02 | P38: -94.38 | Q38: 45.17 | R38: 32.43
C39: Cash Flow from operating activities post working capital changes | N39: =SUM(N30:N38) -> 2435.99 | O39: =SUM(O30:O38) -> 2189.93 | P39: =SUM(P30:P38) -> 1982.88 | Q39: =SUM(Q30:Q38) -> 2507.39 | R39: =SUM(R30:R38) -> 2391.29
C40: Direct taxes paid(net of refund) | N40: -321.32 | O40: -387.6 | P40: -494.45 | Q40: -493.92 | R40: -404.54
C41: Net cash flow from operating activities (A) | N41: =SUM(N39:N40) -> 2114.67 | O41: =SUM(O39:O40) -> 1802.33 | P41: =SUM(P39:P40) -> 1488.43 | Q41: =Q39+Q40 -> 2013.47 | R41: =R39+R40 -> 1986.75
B43: B | C43: CASH FLOW FROM INVESTING ACTIVITIES
C44: Acquisition of property , plant and equipment , capital work in progress and intangible assets | N44: -311.21 | O44: -374.13 | P44: -509.09 | Q44: -563.86 | R44: -569.54 | T44: =-R44*(1-S45) -> 595.15909 | U44: =T44*(1-$S$45) -> 621.93057 | V44: =U44*(1-$S$45) -> 649.9063 | W44: =V44*(1-$S$45) -> 679.14042 | X44: =W44*(1-$S$45) -> 709.68956
N45: =N44/'Fore - P& L'!O12 -> -0.03254773 | O45: =O44/'Fore - P& L'!P12 -> -0.034359537 | P45: =P44/'Fore - P& L'!Q12 -> -0.044153934 | Q45: =Q44/'Fore - P& L'!R12 -> -0.04545788 | R45: =R44/'Fore - P& L'!S12 -> -0.045334388 | S45: =AVERAGE(P45:R45) -> -0.044982067
...

Sheet RATIOS
B1: Ratios Analysis
B2: Ratios Name | F2: 2018 | G2: 2019 | H2: 2020 | I2: 2021 | J2: 2022 | K2: 2023 | L2: 2024 | M2: 2025 | O2: Mean | P2: Median
B4: Liquidity Ratios
B5: Current Ratio | F5: =F7/F8 -> 2.1338215 | G5: =G7/G8 -> 1.46962 | H5: =H7/H8 -> 2.380532 | I5: =I7/I8 -> 1.9299254 | J5: =J7/J8 -> 0.84878002 | K5: =K7/K8 -> 0.80727108 | L5: =L7/L8 -> 1.129421 | M5: =M7/M8 -> 0.92404518 | O5: =AVERAGE(F5:M5) -> 1.452927 | P5: =MEDIAN(F5:M5) -> 1.2995205
C6: Growth Rate | G6: =(G5-F5)/F5 -> -0.31127322 | H6: =(H5-G5)/G5 -> 0.61982819 | I6: =(I5-H5)/H5 -> -0.1892882 | J6: =(J5-I5)/I5 -> -0.5602006 | K6: =(K5-J5)/J5 -> -0.048904238 | L6: =(L5-K5)/K5 -> 0.3990604 | M6: =(M5-L5)/L5 -> -0.18184169
C7: Current Assets | F7: 2634.16 | G7: 2231.28 | H7: 3432.37 | I7: 3930.1 | J7: 1958.84 | K7: 2124.35 | L7: 3265.19 | M7: 2829.99
C8: Current liability | F8: 1234.48 | G8: 1518.27 | H8: 1441.85 | I8: 2036.4 | J8: 2307.83 | K8: 2631.52 | L8: 2891.03 | M8: 3062.61
B10: Quick Ratio | F10: =F12/F16 -> 1.0183721 | G10: =G12/G16 -> 0.53171043 | H10: =H12/H16 -> 1.3346534 | I10: =I12/I16 -> 1.0106561 | J10: =J12/J16 -> -0.04296677 | K10: =K12/K16 -> -0.00024700553 | L10: =L12/L16 -> 0.38124475 | M10: =M12/M16 -> 0.069545257 | O10: =AVERAGE(F10:M10) -> 0.53787103 | P10: =MEDIAN(F10:M10) -> 0.45647759
C11: Growth Rate | G11: =(G10-F10)/F10 -> -0.47788198 | H11: =(H10-G10)/G10 -> 1.5101132 | I11: =(I10-H10)/H10 -> -0.24275766 | J11: =(J10-I10)/I10 -> -1.0425137 | K11: =(K10-J10)/J10 -> -0.99425124 | L11: =(L10-K10)/K10 -> -1544.4664 | M11: =(M10-L10)/L10 -> -0.8175837
C12: Quick Assets | F12: =F13-F14-F15 -> 1257.16 | G12: =G13-G14-G15 -> 807.28 | H12: =H13-H14-H15 -> 1924.37 | I12: =I13-I14-I15 -> 2058.1 | J12: =J13-J14-J15 -> -99.16 | K12: =K13-K14-K15 -> -0.65 | L12: =L13-L14-L15 -> 1102.19 | M12: =M13-M14-M15 -> 212.99
D13: Current Assets | F13: =F7 -> 2634.16 | G13: =G7 -> 2231.28 | H13: =H7 -> 3432.37 | I13: =I7 -> 3930.1 | J13: =J7 -> 1958.84 | K13: =K7 -> 2124.35 | L13: =L7 -> 3265.19 | M13: =M7 -> 2829.99
D14: Inventories | F14: 1256 | G14: 1301 | H14: 1380 | I14: 1734 | J14: 1911 | K14: 2024 | L14: 1947 | M14: 2300
D15: Prepaid Expenses | F15: 121 | G15: 123 | H15: 128 | I15: 138 | J15: 147 | K15: 101 | L15: 216 | M15: 317
C16: Current liability | F16: =F8 -> 1234.48 | G16: =G8 -> 1518.27 | H16: =H8 -> 1441.85 | I16: =I8 -> 2036.4 | J16: =J8 -> 2307.83 | K16: =K8 -> 2631.52 | L16: =L8 -> 2891.03 | M16: =M8 -> 3062.61
B18: Cash Ratio | F18: =F20/F21 -> 0.24787765 | G18: =G20/G21 -> 0.21603536 | H18: =H20/H21 -> 0.56247182 | I18: =I20/I21 -> 0.65262227 | J18: =J20/J21 -> 0.24698526 | K18: =K20/K21 -> 0.12388277 | L18: =L20/L21 -> 0.23036772 | M18: =M20/M21 -> 0.18872792 | O18: =AVERAGE(F18:M18) -> 0.30862135 | P18: =MEDIAN(F18:M18) -> 0.23867649
C19: Growth Rate | G19: =(G18-F18)/F18 -> -0.12845972 | H19: =(H18-G18)/G18 -> 1.6036101 | I19: =(I18-H18)/H18 -> 0.1602755 | J19: =(J18-I18)/I18 -> -0.62154944 | K19: =(K18-J18)/J18 -> -0.49842038 | L19: =(L18-K18)/K18 -> 0.85956218 | M19: =(M18-L18)/L18 -> -0.18075366
C20: Cash and Cash Equivalent | F20: 306 | G20: 328 | H20: 811 | I20: 1329 | J20: 570 | K20: 326 | L20: 666 | M20: 578
C21: Current liability | F21: =F16 -> 1234.48 | G21: =G16 -> 1518.27 | H21: =H16 -> 1441.85 | I21: =I16 -> 2036.4 | J21: =J16 -> 2307.83 | K21: =K16 -> 2631.52 | L21: =L16 -> 2891.03 | M21: =M16 -> 3062.61
B24: Profitability Ratios
B25: Gross Profit ratio | F25: =F27/F30 -> 0.64918415 | G25: =G27/G30 -> 0.63816794 | H25: =H27/H30 -> 0.64617156 | I25: =I27/I30 -> 0.62800669 | J25: =J27/J30 -> 0.62090183 | K25: =K27/K30 -> 0.59488291 | L25: =L27/L30 -> 0.61593035 | M25: =M27/M30 -> 0.61896044 | O25: =AVERAGE(F25:M25) -> 0.62652573 | P25: =MEDIAN(F25:M25) -> 0.62445426
C26: Growth Rate | G26: =(G25-F25)/F25 -> -0.016969315 | H26: =(H25-G25)/G25 -> 0.01254156 | I26: =(I25-H25)/H25 -> -0.028111524 | J26: =(J25-I25)/I25 -> -0.01131336 | K26: =(K25-J25)/J25 -> -0.041905036 | L26: =(L25-K25)/K25 -> 0.035380796 | M26: =(M25-L25)/L25 -> 0.0049195406
C27: Gross Profit | F27: =+F28-F29 -> 5013 | G27: =+G28-G29 -> 5434 | H27: =+H28-H29 -> 5612 | I27: =+I28-I29 -> 6005 | J27: =+J28-J29 -> 6761 | K27: =+K28-K29 -> 6859 | L27: =+L28-L29 -> 7640 | M27: =+M28-M29 -> 7776
D28: Revenue | F28: 7722 | G28: 8515 | H28: 8685 | I28: 9562 | J28: 10889 | K28: 11530 | L28: 12404 | M28: 12563
D29: COGS | F29: 2709 | G29: 3081 | H29: 3073 | I29: 3557 | J29: 4128 | K29: 4671 | L29: 4764 | M29: 4787
C30: Total Revenue | F30: 7722 | G30: 8515 | H30: 8685 | I30: 9562 | J30: 10889 | K30: 11530 | L30: 12404 | M30: 12563
B32: Net profit ratio | F32: =+F34/F35 -> 0.17586118 | G32: =+G34/G35 -> 0.16981797 | H32: =+H34/H35 -> 0.16672424 | I32: =+I34/I35 -> 0.17726417 | J32: =+J34/J35 -> 0.15997796 | K32: =+K34/K35 -> 0.14752819 | L32: =+L34/L35 -> 0.14600129 | M32: =+M34/M35 -> 0.13850195 | O32: =AVERAGE(F32:M32) -> 0.16020962 | P32: =MEDIAN(F32:M32) -> 0.1633511
C33: Growth Rate | G33: =(G32-F32)/F32 -> -0.034363512 | H33: =(H32-G32)/G32 -> -0.018217926 | I33: =(I32-H32)/H32 -> 0.063217764 | J33: =(J32-I32)/I32 -> -0.097516668 | K33: =(K32-J32)/J32 -> -0.077821796 | L33: =(L32-K32)/K32 -> -0.010349869 | M33: =(M32-L32)/L32 -> -0.051364887
C34: Net Profit | F34: 1358 | G34: 1446 | H34: 1448 | I34: 1695 | J34: 1742 | K34: 1701 | L34: 1811 | M34: 1740
C35: Total Revenue | F35: 7722 | G35: 8515 | H35: 8685 | I35: 9562 | J35: 10889 | K35: 11530 | L35: 12404 | M35: 12563
B37: Opeating Profit Ratio | F37: =F39/F40 -> 0.20940171 | G37: =G39/G40 -> 0.20434527 | H37: =H39/H40 -> 0.20633276 | I37: =I39/I40 -> 0.20937042 | J37: =J39/J40 -> 0.20681422 | K37: =K39/K40 -> 0.18751084 | L37: =L39/L40 -> 0.19348597 | M37: =M39/M40 -> 0.18435087 | O37: =AVERAGE(F37:M37) -> 0.20020151 | P37: =MEDIAN(F37:M37) -> 0.20533902
C38: Growth Rate | G38: =(G37-F37)/F37 -> -0.024147063 | H38: =(H37-G37)/G37 -> 0.0097261099 | I38: =(I37-H37)/H37 -> 0.014722175 | J38: =(J37-I37)/I37 -> -0.012209023 | K38: =(K37-J37)/J37 -> -0.093336789 | L38: =(L37-K37)/K37 -> 0.031865523 | M38: =(M37-L37)/L37 -> -0.047213245
C39: Operating Profit | F39: 1617 | G39: 1740 | H39: 1792 | I39: 2002 | J39: 2252 | K39: 2162 | L39: 2400 | M39: 2316
C40: Total Revenue | F40: 7722 | G40: 8515 | H40: 8685 | I40: 9562 | J40: 10889 | K40: 11530 | L40: 12404 | M40: 12563
B42: Return on Capital Employed | F42: =F44/F45 -> 0.23970346 | G42: =G44/G45 -> 0.27624602 | H42: =H44/H45 -> 0.23223519 | I42: =I44/I45 -> 0.22987606 | J42: =J44/J45 -> 0.23158017 | K42: =K44/K45 -> 0.1996333 | L42: =L44/L45 -> 0.19236685 | M42: =M44/M45 -> 0.16840778 | O42: =AVERAGE(F42:M42) -> 0.2212561 | P42: =MEDIAN(F42:M42) -> 0.23072811
C43: Growth Rate | G43: =(G42-F42)/F42 -> 0.15244905 | H43: =(H42-G42)/G42 -> -0.15931753 | I43: =(I42-H42)/H42 -> -0.010158365 | J43: =(J42-I42)/I42 -> 0.0074131548 | K43: =(K42-J42)/J42 -> -0.13795163 | L43: =(L42-K42)/K42 -> -0.036398997 | M43: =(M42-L42)/L42 -> -0.12454886
C44: EBIT | F44: =R138 -> 1455 | G44: =S138 -> 1563 | H44: =T138 -> 1572 | I44: =U138 -> 1762 | J44: =V138 -> 1999 | K44: =W138 -> 1851 | L44: =X138 -> 2001 | M44: =Y138 -> 1870
C45: Capital Employed | F45: =F138 -> 6070 | G45: =G138 -> 5658 | H45: =H138 -> 6769 | I45: =I138 -> 7665 | J45: =J138 -> 8632 | K45: =K138 -> 9272 | L45: =L138 -> 10402 | M45: =M138 -> 11104
B47: Return on Assets Ratio | F47: =F49/F50 -> 0.17707192 | G47: =G49/G50 -> 0.18239104 | H47: =H49/H50 -> 0.17688759 | I47: =I49/I50 -> 0.17471492 | J47: =J49/J50 -> 0.17294632 | K47: =K49/K50 -> 0.14273597 | L47: =L49/L50 -> 0.1391129 | M47: =M49/M50 -> 0.11931347 | O47: =AVERAGE(F47:M47) -> 0.16064677 | P47: =MEDIAN(F47:M47) -> 0.17383062
C48: Growth Rate | G48: =(G47-F47)/F47 -> 0.030039285 | H48: =(H47-G47)/G47 -> -0.030173902 | I48: =(I47-H47)/H47 -> -0.012282747 | J48: =(J47-I47)/I47 -> -0.010122814 | K48: =(K47-J47)/J47 -> -0.17468051 | L48: =(L47-K47)/K47 -> -0.025382966 | M48: =(M47-L47)/L47 -> -0.14232637
C49: Net Income | F49: =R138 -> 1455 | G49: =S138 -> 1563 | H49: =T138 -> 1572 | I49: =U138 -> 1762 | J49: =V138 -> 1999 | K49: =W138 -> 1851 | L49: =X138 -> 2001 | M49: =Y138 -> 1870
...

Sheet Work Sheet
B2: Year (as of 31-Mar) | C2: MPS | D2: Shares outstanding (₹ crore units) | E2: market cap | F2: Market cap | G2: ='Balance sheet'!M48 -> 7700.22 | H2: ='Balance sheet'!N48 -> 8421.85 | I2: ='Balance sheet'!O48 -> 9441.43 | J2: ='Balance sheet'!P48 -> 10303.08 | K2: ='Balance sheet'!Q48 -> 11210.26
B3: 2021 | C3: 540 | D3: 176.74 | E3: =C3*D3 -> 95439.6 | F3: No. of share | G3: =D3 -> 176.74 | H3: =D4 -> 176.94 | I3: =D5 -> 177.2 | J3: =D6 -> 177.2 | K3: =D7 -> 177.2
B4: 2022 | C4: 536 | D4: 176.94 | E4: =C4*D4 -> 94839.84 | F4: BV | G4: =G2/G3 -> 43.568066 | H4: =H2/H3 -> 47.597208 | I4: =I2/I3 -> 53.281208 | J4: =J2/J3 -> 58.143792 | K4: =K2/K3 -> 63.263318
B5: 2023 | C5: 544 | D5: 177.2 | E5: =C5*D5 -> 96396.8 | F5: Mps | G5: =C3 -> 540 | H5: =C4 -> 536 | I5: =C5 -> 544 | J5: =C6 -> 523 | K5: =C7 -> 506
B6: 2024 | C6: 523 | D6: 177.2 | E6: =C6*D6 -> 92675.6 | F6: ratio | G6: =G5/G4 -> 12.394399 | H6: =H5/H4 -> 11.261165 | I6: =I5/I4 -> 10.209979 | J6: =J5/J4 -> 8.9949413 | K6: =K5/K4 -> 7.9983158
B7: 2025 | C7: 506 | D7: 177.2 | E7: =C7*D7 -> 89663.2
B10: Shareholder | C10: Holding (No. of Shares) | D10: Holding % | E10: Value of Holding (₹ Crore) | F10: EV
B11: Vic Enterprises Private Limited | C11: 21.7794 | D11: 0.1228 | E11: 1,102.42 Cr | F11: market cap | G11: =D3*C3 -> 95439.6 | H11: 94839.84 | I11: 96396.8 | J11: 92675.6 | K11: 89663.2
B12: Saket Burman | C12: 20.93838 | D12: 0.1179 | E12: 1,059.23 Cr | F12: Debt | G12: ='Balance sheet'!$M$52+'Balance sheet'!$M$53+'Balance sheet'!$M$60+'Balance sheet'!$M$61 -> 483.27 | H12: ='Balance sheet'!$M$52+'Balance sheet'!$M$53+'Balance sheet'!$M$60+'Balance sheet'!$M$61 -> 483.27 | I12: ='Balance sheet'!$M$52+'Balance sheet'!$M$53+'Balance sheet'!$M$60+'Balance sheet'!$M$61 -> 483.27 | J12: ='Balance sheet'!$M$52+'Balance sheet'!$M$53+'Balance sheet'!$M$60+'Balance sheet'!$M$61 -> 483.27 | K12: ='Balance sheet'!$M$52+'Balance sheet'!$M$53+'Balance sheet'!$M$60+'Balance sheet'!$M$61 -> 483.27
B13: Gyan Enterprises Pvt. Ltd. | C13: 19.337998 | D13: 0.109 | E13: 977.06 Cr | F13: Minority | G13: ='Balance sheet'!$M$47 -> 36.69 | H13: ='Balance sheet'!$M$47 -> 36.69 | I13: ='Balance sheet'!$M$47 -> 36.69 | J13: ='Balance sheet'!$M$47 -> 36.69 | K13: ='Balance sheet'!$M$47 -> 36.69
B14: Puran Associates Pvt. Ltd. | C14: 18.9212 | D14: 0.1067 | E14: 956.84 Cr | F14: cas h | G14: ='Balance sheet'!$M$33 -> 241.23 | H14: ='Balance sheet'!$M$33 -> 241.23 | I14: ='Balance sheet'!$M$33 -> 241.23 | J14: ='Balance sheet'!$M$33 -> 241.23 | K14: ='Balance sheet'!$M$33 -> 241.23
B15: Ratna Commercial Enterprises Pvt. Ltd. | C15: 15.89556 | D15: 0.0897 | E15: 803.54 Cr
B16: Milky Investment And Trading Co. | C16: 10.61475 | D16: 0.0598 | E16: 536.20 Cr | F16: EV | G16: =G11+G12+G13-G14 -> 95718.33 | H16: =H11+H12+H13-H14 -> 95118.57 | I16: =I11+I12+I13-I14 -> 96675.53 | J16: =J11+J12+J13-J14 -> 92954.33 | K16: =K11+K12+K13-K14 -> 89941.93
B17: Life Insurance Corporation of India (LIC) | C17: 8.903565 | D17: 0.0502 | E17: 450.58 Cr
B18: Burmans Finvest Private Limited | C18: 5.3012986 | D18: 0.0299 | E18: 268.23 Cr
B19: UTI Retirement Solutions Ltd. | C19: 3.29724 | D19: 0.0186 | E19: 167.05 Cr
B20: ICICI Prudential AMC Ltd. | C20: 3.1722028 | D20: 0.0179 | E20: 160.39 Cr
B23: Key Managerial Personnel | C23: Designation | D23: Remuneration (₹ Cr) | E23: Ratio to Median Employee Salary (x)
B24: Mohit Malhotra | C24: Chief Executive Officer & Whole-time Director | D24: 14.43 | E24: 257×
B25: Amit Burman | C25: Chairman (Non-Executive) | D25: 1.9 | E25: 34×
B26: P. D. Narang | C26: Whole-time Director | D26: 8.08 | E26: 144×
B27: Mohit Anand | C27: Whole-time Director | D27: 5.92 | E27: 106×
B28: Manish Chugh | C28: Chief Financial Officer (KMP) | D28: 3.17 | E28: 57×
B29: Vivek Chandra | C29: Chief Executive Officer – International Business (KMP) | D29: 3.35 | E29: 60×
B30: Sandeep Sharma | C30: Chief Executive Officer – India Business (KMP) | D30: 2.99 | E30: 53×
B31: Atul Sharma | C31: Company Secretary & Compliance Officer (KMP) | D31: 1.21 | E31: 21×
B54: Month | C54: Close Price
B55: 44197 | C55: 515.25
B56: 44228 | C56: 503.35
B57: 44256 | C57: 540.7
B58: 44287 | C58: 538.45
B59: 44317 | C59: 540.4
B60: 44348 | C60: 568.8
B61: 44378 | C61: 600.5
B62: 44409 | C62: 620.85
B63: 44440 | C63: 617.1
B64: 44470 | C64: 586.3
B65: 44501 | C65: 595.4
B66: 44531 | C66: 580.4
... B111: 45901 | C111: 515.2

Sheet Forecasted sheet
B1: Dabur India ltd.
B3: Historical Data | M3: Forecasted Data
B5: Particulars | E5: FY- 2021 | F5: FY - 2022 | G5: FY- 2023 | H5: FY- 2024 | I5: FY - 2025 | J5: Growth Rate/Measures | L5: FY - 2026 | M5: FY- 2027 | N5: FY- 2028 | O5: FY - 2029 | P5: FY - 2030 | Q5: FY- 2031 | R5: FY- 2032
B7: Sales | E7: 9562 | F7: 10889 | G7: 11530 | H7: 12404 | I7: 12563 | L7: =I7*(1+$J$8) -> 12877.075 | M7: =L7*(1+$J$8) -> 13199.002 | N7: =M7*(1+$J$8) -> 13528.977 | O7: =N7*(1+$J$8) -> 13867.201 | P7: =O7*(1+$J$8) -> 14213.881 | Q7: =P7*(1+$J$8) -> 14569.228 | R7: =Q7*(1+$J$8) -> 14933.459
B8: Growth Rate | E8: - | F8: =(F7/E7)-1 -> 0.1387785 | G8: =(G7/F7)-1 -> 0.058866746 | H8: =(H7/G7)-1 -> 0.075802255 | I8: =(I7/H7)-1 -> 0.012818446 | J8: 0.025
B9: =Calculatios!$B$32 -> Earning before interest and Tax | E9: 2092.04 | F9: 2316.8 | G9: 2296.99 | H9: 2481.55 | I9: 2423.94 | L9: =L7*$J$10 -> 2636.6425 | M9: =M7*$J$10 -> 2702.5585 | N9: =N7*$J$10 -> 2770.1225 | O9: =O7*$J$10 -> 2839.3756 | P9: =P7*$J$10 -> 2910.36 | Q9: =Q7*$J$10 -> 2983.119 | R9: =R7*$J$10 -> 3057.6969
B10: EBIT Margin | E10: =(E9/E7) -> 0.21878686 | F10: =(F9/F7) -> 0.21276518 | G10: =(G9/G7) -> 0.19921856 | H10: =(H9/H7) -> 0.20006046 | I10: =(I9/I7) -> 0.19294277 | J10: =AVERAGE(D10:I10) -> 0.20475477
B11: Depriciation | E11: -240.13 | F11: -252.89 | G11: -310.96 | H11: -399.21 | I11: -445.6 | L11: =L13*$J$12 -> -368.98005 | M11: =M13*$J$12 -> -378.20455 | N11: =N13*$J$12 -> -387.65966 | O11: =O13*$J$12 -> -397.35115 | P11: =P13*$J$12 -> -407.28493 | Q11: =Q13*$J$12 -> -417.46706 | R11: =R13*$J$12 -> -427.90373
B12: Dep % of sales | E12: =E11/E13 -> 0.77212219 | F12: =F11/F13 -> 0.67617647 | G12: =G11/G13 -> 0.61092338 | H12: =H11/H13 -> 0.70781915 | I12: =I11/I13 -> 0.78175439 | J12: =AVERAGE(E12:I12) -> 0.70975911
B13: Capital Expenditure | E13: -311 | F13: -374 | G13: -509 | H13: -564 | I13: -570 | L13: =L7*$J$14 -> -519.86659 | M13: =M7*$J$14 -> -532.86325 | N13: =N7*$J$14 -> -546.18483 | O13: =O7*$J$14 -> -559.83945 | P13: =P7*$J$14 -> -573.83544 | Q13: =Q7*$J$14 -> -588.18132 | R13: =R7*$J$14 -> -602.88586
B14: Capex % of sales | E14: =E13/E7 -> -0.032524576 | F14: =F13/F7 -> -0.034346588 | G14: =G13/G7 -> -0.044145707 | H14: =H13/H7 -> -0.045469203 | I14: =I13/I7 -> -0.045371329 | J14: =AVERAGE(E14:I14) -> -0.040371481
B15: =Calculatios!$B$13 -> working capital number | E15: =Calculatios!G13 -> 192 | F15: =Calculatios!H13 -> 39 | G15: =Calculatios!I13 -> 168 | H15: =Calculatios!J13 -> -195 | I15: =Calculatios!K13 -> -362 | L15: =L7*$J$16 -> -16.234763 | M15: =M7*$J$16 -> -16.640632 | N15: =N7*$J$16 -> -17.056647 | O15: =O7*$J$16 -> -17.483064 | P15: =P7*$J$16 -> -17.92014 | Q15: =Q7*$J$16 -> -18.368144 | R15: =R7*$J$16 -> -18.827347
B16: NWC % of sales | E16: =E15/E7 -> 0.020079481 | F16: =F15/F7 -> 0.0035815961 | G16: =G15/G7 -> 0.014570685 | H16: =H15/H7 -> -0.015720735 | I16: =I15/I7 -> -0.028814774 | J16: =AVERAGE(E16:I16) -> -0.0012607492
B17: Tax rate | E17: 0.25 | F17: 0.25 | G17: 0.25 | H17: 0.25 | I17: 0.25 | J17: 0.25
B18: NOPAT | E18: =E9*(1-E17) -> 1569.03 | F18: =F9*(1-F17) -> 1737.6 | G18: =G9*(1-G17) -> 1722.7425 | H18: =H9*(1-H17) -> 1861.1625 | I18: =I9*(1-I17) -> 1817.955 | L18: =L9*(1-$J$17) -> 1977.4819 | M18: =M9*(1-$J$17) -> 2026.9189 | N18: =N9*(1-$J$17) -> 2077.5919 | O18: =O9*(1-$J$17) -> 2129.5317 | P18: =P9*(1-$J$17) -> 2182.77 | Q18: =Q9*(1-$J$17) -> 2237.3392 | R18: =R9*(1-$J$17) -> 2293.2727
B35: Assumptions
B36: slaes shows the same growth rate as historical and will be forecasted on the basis
B37: EBIT should be the margins of the sale
B38: Depriciation should be margin of the sales if capex is xero but will try with capex margin
B39: capital expenditure will we the margin of sales.
B40: Net working capital will we the margin sales
B41: NOPAT is EBIT(1-Tax Rate)
B43: 1. Forecast Assumptions (Operating)
B44: Revenue Growth Rate = CAGR or year-on-year growth for sales.
B45: EBIT Margin / Operating Margin = Stable or improving trend based on history & industry.
B46: Depreciation = As % of Sales or % of Capex.
B47: Capex = As % of Sales or based on historical trend.
... B69: Sometimes also revenue growth & margin sensitivity.

Sheet FCFF
B2: FCFF (Free Cash Flow to the firm)
B3: Particular | D3: FY - 2026 | E3: FY- 2027 | F3: FY- 2028 | G3: FY - 2029 | H3: FY - 2030 | I3: FY- 2031 | J3: FY- 2032
B6: ='Forecasted sheet'!$B$18 -> NOPAT | D6: ='Forecasted sheet'!L18 -> 1977.4819 | E6: ='Forecasted sheet'!M18 -> 2026.9189 | F6: ='Forecasted sheet'!N18 -> 2077.5919 | G6: ='Forecasted sheet'!O18 -> 2129.5317 | H6: ='Forecasted sheet'!P18 -> 2182.77 | I6: ='Forecasted sheet'!Q18 -> 2237.3392 | J6: ='Forecasted sheet'!R18 -> 2293.2727
B8: Depreciation | D8: ='Forecasted sheet'!L11 -> -368.98005 | E8: ='Forecasted sheet'!M11 -> -378.20455 | F8: ='Forecasted sheet'!N11 -> -387.65966 | G8: ='Forecasted sheet'!O11 -> -397.35115 | H8: ='Forecasted sheet'!P11 -> -407.28493 | I8: ='Forecasted sheet'!Q11 -> -417.46706 | J8: ='Forecasted sheet'!R11 -> -427.90373
B9: Capex | D9: ='Forecasted sheet'!L13 -> -519.86659 | E9: ='Forecasted sheet'!M13 -> -532.86325 | F9: ='Forecasted sheet'!N13 -> -546.18483 | G9: ='Forecasted sheet'!O13 -> -559.83945 | H9: ='Forecasted sheet'!P13 -> -573.83544 | I9: ='Forecasted sheet'!Q13 -> -588.18132 | J9: ='Forecasted sheet'!R13 -> -602.88586
B10: NWC (Net Working Capital) | D10: ='Forecasted sheet'!L15 -> -16.234763 | E10: ='Forecasted sheet'!M15 -> -16.640632 | F10: ='Forecasted sheet'!N15 -> -17.056647 | G10: ='Forecasted sheet'!O15 -> -17.483064 | H10: ='Forecasted sheet'!P15 -> -17.92014 | I10: ='Forecasted sheet'!Q15 -> -18.368144 | J10: ='Forecasted sheet'!R15 -> -18.827347
B11: Change In NWC | D11: =D10-'Forecasted sheet'!I15 -> 345.76524 | E11: =E10-D10 -> -0.40586907 | F11: =F10-E10 -> -0.41601579 | G11: =G10-F10 -> -0.42641619 | H11: =H10-G10 -> -0.43707659 | I11: =I10-H10 -> -0.44800351 | J11: =J10-I10 -> -0.45920359
B12: FCFF | D12: =(D6-D8)+D9-D11 -> 1480.8301 | E12: =(E6-E8)+E9-E11 -> 1872.6661 | F12: =(F6-F8)+F9-F11 -> 1919.4827 | G12: =(G6-G8)+G9-G11 -> 1967.4698 | H12: =(H6-H8)+H9-H11 -> 2016.6565 | I12: =(I6-I8)+I9-I11 -> 2067.073 | J12: =(J6-J8)+J9-J11 -> 2118.7498
B17: Discounted Cash Flow Valuation Sheet
B18: Particular | D18: FY - 2026 | E18: FY- 2027 | F18: FY- 2028 | G18: FY - 2029 | H18: FY - 2030 | I18: FY- 2031 | J18: FY- 2032
B21: =B12 -> FCFF | D21: =D12 -> 1480.8301 | E21: =E12 -> 1872.6661 | F21: =F12 -> 1919.4827 | G21: =G12 -> 1967.4698 | H21: =H12 -> 2016.6565 | I21: =I12 -> 2067.073 | J21: =J12 -> 2118.7498
B23: Discount Factor | D23: =1/(1+$G$28)^1 -> 0.89550308 | E23: =1/(1+$G$28)^2 -> 0.80192577 | F23: =1/(1+$G$28)^3 -> 0.718127 | G23: =1/(1+$G$28)^4 -> 0.64308494 | H23: =1/(1+$G$28)^5 -> 0.57588454 | I23: =1/(1+$G$28)^6 -> 0.51570638 | J23: =1/(1+$G$28)^7 -> 0.46181666
B25: Present value of FCFF | D25: =D21*D23 -> 1326.0879 | E25: =E21*E23 -> 1501.7392 | F25: =F21*F23 -> 1378.4324 | G25: =G21*G23 -> 1265.2502 | H25: =H21*H23 -> 1161.3613 | I25: =I21*I23 -> 1066.0027 | J25: =J21*J23 -> 978.47394
B27: FCFF | G27: =J21 -> 2118.7498
B28: WACC | G28: =Calculatios!$G$48 -> 0.11669074
B29: Terminal Growth Rate | G29: 0.06
B30: Terminal Value | D30: =J21*(1+G29)/(G28-G29) -> 39616.253
B31: Discounted Terminal value | D31: =D30*J23 -> 18295.445
B33: Enterprises value (EV) | D33: =SUM(D25:J25)+D31 -> 26972.793
B39: Equity Value Sheet
B40: Particular | D40: Amount
B41: Enterprise Value (DCF) | D41: =D33 -> 26972.793
B42: + Cash and Cash Equivalent | D42: 578
B43: -Net Debts | D43: =Calculatios!$F$103 -> -1136.4
B44: -Minority Interest | D44: 410
B45: Other Adjustment
B46: Equity Value | D46: =D41+D42-D43-D44 -> 28277.193
B48: Per Share Value
B49: Particular | D49: Amount
B50: Equity Value | D50: =$D$46 -> 28277.193
B51: No of outstanding shares | D51: 177.22
B52: Intrinsic value per share | D52: =D50/D51 -> 159.55983
B56: Sensitivity Analysis Sheet | K56: Sensitivity Analysis Sheet
